BEGIN:VCALENDAR
VERSION:2.0
PRODID:-//Contratero//ES
CALSCALE:GREGORIAN
METHOD:PUBLISH
BEGIN:VEVENT
UID:CONTR 2023 8596@contratero.es
DTSTAMP:20260423T131532Z
DTSTART:20230823T235959
DTEND:20230824T005959
SUMMARY:Cierre: Soporte y mantenimento de licencias y componentes 
DESCRIPTION:Soporte y mantenimento de licencias y componentes Oracle del GOIB\\n\\nOrganismo: Consejería de Fondos Europeos\, Universidad y Cultura\\n\\nVer en Contratero: https://contratero.es/contracts/CONTR 2023 8596
URL:https://contratero.es/contracts/CONTR 2023 8596
STATUS:CONFIRMED
BEGIN:VALARM
TRIGGER:-P1D
ACTION:DISPLAY
DESCRIPTION:Recordatorio: Soporte y mantenimento de lice
END:VALARM
END:VEVENT
END:VCALENDAR